{"text_format":"3","workbook":"xlsx","n_sheets":2,"sheets":["ORDER LIST","_SERVICE_"],"not_rendered":{"defined_names":3},"read":"whole","date_system":"1900"}

{"sheet":"ORDER LIST","index":0,"n_rows":13,"n_cols":16,"rows_kept":13}
[null,"Field=Version"]
[null,"Field=SCHRevision"]
[null,"ORDER LIST"]
[null,"Project:","Field=ID",{"$nulls":6},"Legend:",null,null,"Author:","Field=DrawnBy",null,"Field=ReportDate"]
[null,"Variant:","Field=VariantName",{"$nulls":3},"Order amount:",1,null,"Position is not mounted",null,null,"Checked:","Field=CheckedBy",null,"Field=ReportDate"]
[null,"Version:",{"$f":"IF(B1=\"Field=Version\",\"<Version>\",B1&\".\"&B2)","v":"<Version>"},{"$nulls":3},"Margin:",{"v":0.1,"d":"10%"},null,"Position has comments",null,null,"Approved:","Field=ApprovedBy",null,"Field=ReportDate"]
[]
["№","Column=Designator","Column=Quantity","Margin","Roundup","Total quantity","In Stock","Column=Database Table Name","Column=Description","Column=Manufacturer","Column=Part Number","Column=Value","Column=Pins","Solder Joints per PCB","Solder Joints per Order","Notes"]
[{"$f":"ROW()-8","v":1},null,null,{"$f":"VLOOKUP(H9,_SERVICE_!$A$2:$C$15,2)","v":{"$error":"#N/A"}},{"$f":"VLOOKUP(H9,_SERVICE_!$A$2:$C$15,3)","v":{"$error":"#N/A"}},{"$f":"CEILING(IF(D9<1,C9*$H$5*(1+D9),IF(C9>0,C9*$H$5+D9,0)),E9)","v":{"$error":"#N/A"}},{"$nulls":7},{"$f":"M9*C9","v":0},{"$f":"N9*$H$5","v":0}]
[{"$f":"ROW()-8","v":2},null,null,{"$f":"VLOOKUP(H10,_SERVICE_!$A$2:$C$15,2)","v":{"$error":"#N/A"}},{"$f":"VLOOKUP(H10,_SERVICE_!$A$2:$C$15,3)","v":{"$error":"#N/A"}},{"$f":"CEILING(IF(D10<1,C10*$H$5*(1+D10),IF(C10>0,C10*$H$5+D10,0)),E10)","v":{"$error":"#N/A"}},{"$nulls":7},{"$f":"M10*C10","v":0},{"$f":"N10*$H$5","v":0}]
[3,null,null,{"$f":"VLOOKUP(H11,_SERVICE_!$A$2:$C$15,2)","v":{"$error":"#N/A"}},{"$f":"VLOOKUP(H11,_SERVICE_!$A$2:$C$15,3)","v":{"$error":"#N/A"}},{"$f":"CEILING(IF(D11<1,C11*$H$5*(1+D11),IF(C11>0,C11*$H$5+D11,0)),E11)","v":{"$error":"#N/A"}},{"$nulls":7},{"$f":"M11*C11","v":0},{"$f":"N11*$H$5","v":0}]
[]
[{"$nulls":13},"Total Solder Joints:",{"$f":"SUM(O9:O11)","v":0}]

{"sheet":"_SERVICE_","index":1,"n_rows":15,"n_cols":3,"rows_kept":15,"hidden":true}
["Database Table Name","Margin","Round-up"]
["Accessories.txt",{"$f":"IF('ORDER LIST'!$H$6=0,0,1)","v":1},1]
["Capacitors.txt",{"$f":"'ORDER LIST'!$H$6","v":{"v":0.1,"d":"10%"}},5]
["Connectors.txt",{"$f":"IF('ORDER LIST'!$H$6=0,0,1)","v":1},1]
["Crystals.txt",{"$f":"'ORDER LIST'!$H$6","v":{"v":0.1,"d":"10%"}},1]
["Diodes.txt",{"$f":"'ORDER LIST'!$H$6","v":{"v":0.1,"d":"10%"}},5]
["Fuses.txt",{"$f":"'ORDER LIST'!$H$6","v":{"v":0.1,"d":"10%"}},1]
["ICs.txt",{"$f":"IF('ORDER LIST'!$H$6=0,0,1)","v":1},1]
["Inductors.txt",{"$f":"'ORDER LIST'!$H$6","v":{"v":0.1,"d":"10%"}},1]
["Mechanics.txt",{"$f":"'ORDER LIST'!$H$6","v":{"v":0.1,"d":"10%"}},1]
["Miscellaneous.txt",{"$f":"IF('ORDER LIST'!$H$6=0,0,1)","v":1},1]
["Relays.txt",{"$f":"IF('ORDER LIST'!$H$6=0,0,1)","v":1},1]
["Resistors.txt",{"$f":"'ORDER LIST'!$H$6","v":{"v":0.1,"d":"10%"}},5]
["Switches.txt",{"$f":"IF('ORDER LIST'!$H$6=0,0,1)","v":1},1]
["Transistors.txt",{"$f":"'ORDER LIST'!$H$6","v":{"v":0.1,"d":"10%"}},5]