Workbook
Name __Anonymous_Sheet_DB__1: 'ORDER LIST'!$A$8:$P$8

Sheet ORDER LIST
B1: Field=Version
B2: Field=SCHRevision
B3: ORDER LIST
B4: Project: | C4: Field=ID | J4: Legend: | M4: Разработал: | N4: Field=DrawnBy | P4: Field=ReportDate
B5: Variant: | C5: Field=VariantName | G5: Количество комплектов: | H5: 1 | J5: Position is not mounted | M5: Проверил: | N5: Field=CheckedBy | P5: Field=ReportDate
B6: Версия: | C6: =IF(B1="Field=Version","<Version>",B1&"."&B2) -> <Version> | G6: Запас: | H6: 0.1 | J6: Position has comments | M6: Утвердил: | N6: Field=ApprovedBy | P6: Field=ReportDate
A8: № | B8: Column=Designator | C8: Column=Quantity | D8: Margin | E8: Roundup | F8: Общее количество | G8: В наличии | H8: Column=Database Table Name | I8: Column=Описание | J8: Column=Производитель | K8: Column=Наименование | L8: Column=Value | M8: Column=Pins | N8: Solder Joints per PCB | O8: Solder Joints per Order | P8: Notes
A9: =ROW()-8 -> 1 | D9: =VLOOKUP(H9,_SERVICE_!$A$2:$C$15,2) -> #N/A | E9: =VLOOKUP(H9,_SERVICE_!$A$2:$C$15,3) -> #N/A | F9: =CEILING(IF(D9<1,C9*$H$5*(1+D9),IF(C9>0,C9*$H$5+D9,0)),E9) -> #N/A | N9: =M9*C9 -> 0 | O9: =N9*$H$5 -> 0
A10: =ROW()-8 -> 2 | D10: =VLOOKUP(H10,_SERVICE_!$A$2:$C$15,2) -> #N/A | E10: =VLOOKUP(H10,_SERVICE_!$A$2:$C$15,3) -> #N/A | F10: =CEILING(IF(D10<1,C10*$H$5*(1+D10),IF(C10>0,C10*$H$5+D10,0)),E10) -> #N/A | N10: =M10*C10 -> 0 | O10: =N10*$H$5 -> 0
A11: =ROW()-8 -> 3 | D11: =VLOOKUP(H11,_SERVICE_!$A$2:$C$15,2) -> #N/A | E11: =VLOOKUP(H11,_SERVICE_!$A$2:$C$15,3) -> #N/A | F11: =CEILING(IF(D11<1,C11*$H$5*(1+D11),IF(C11>0,C11*$H$5+D11,0)),E11) -> #N/A | N11: =M11*C11 -> 0 | O11: =N11*$H$5 -> 0
N13: Total Solder Joints: | O13: =SUM(O9:O11) -> 0

Sheet _SERVICE_
A1: Database Table Name | B1: Margin | C1: Round-up
A2: Accessories.txt | B2: =IF('ORDER LIST'!$H$6=0,0,1) -> 1 | C2: 1
A3: Capacitors.txt | B3: ='ORDER LIST'!$H$6 -> 0.1 | C3: 5
A4: Connectors.txt | B4: =IF('ORDER LIST'!$H$6=0,0,1) -> 1 | C4: 1
A5: Crystals.txt | B5: ='ORDER LIST'!$H$6 -> 0.1 | C5: 1
A6: Diodes.txt | B6: ='ORDER LIST'!$H$6 -> 0.1 | C6: 5
A7: Fuses.txt | B7: ='ORDER LIST'!$H$6 -> 0.1 | C7: 1
A8: ICs.txt | B8: =IF('ORDER LIST'!$H$6=0,0,1) -> 1 | C8: 1
A9: Inductors.txt | B9: ='ORDER LIST'!$H$6 -> 0.1 | C9: 1
A10: Mechanics.txt | B10: ='ORDER LIST'!$H$6 -> 0.1 | C10: 1
A11: Miscellaneous.txt | B11: =IF('ORDER LIST'!$H$6=0,0,1) -> 1 | C11: 1
A12: Relays.txt | B12: =IF('ORDER LIST'!$H$6=0,0,1) -> 1 | C12: 1
A13: Resistors.txt | B13: ='ORDER LIST'!$H$6 -> 0.1 | C13: 5
A14: Switches.txt | B14: =IF('ORDER LIST'!$H$6=0,0,1) -> 1 | C14: 1
A15: Transistors.txt | B15: ='ORDER LIST'!$H$6 -> 0.1 | C15: 5
